View In:
ArcGIS JavaScript
ArcGIS Online Map Viewer
ArcGIS Earth
Service Description: Extreme_Heat_Days_master
Name: Extreme_Heat_Days_master
Description:
Single Fused Map Cache: false
Extent:
XMin: 6304225.193885818
YMin: 1766598.6113523315
XMax: 6629027.693885818
YMax: 2101243.6113523315
Spatial Reference: 102642
(2226)
LatestVCSWkid(0)
Initial Extent:
XMin: 6304225.193885818
YMin: 1766598.6113523315
XMax: 6629027.693885818
YMax: 2101243.6113523315
Spatial Reference: 102642
(2226)
LatestVCSWkid(0)
Full Extent:
XMin: 6304225.193885818
YMin: 1766598.6113523315
XMax: 6629027.693885818
YMax: 2101243.6113523315
Spatial Reference: 102642
(2226)
LatestVCSWkid(0)
Pixel Size X: 9842.5
Pixel Size Y: 9842.5
Band Count: 1
Pixel Type: F64
RasterFunction Infos: {"rasterFunctionInfos": [{
"name": "None",
"description": "",
"help": ""
}]}
Mensuration Capabilities: Basic
Inspection Capabilities:
Has Histograms: true
Has Colormap: false
Has Multi Dimensions : false
Rendering Rule:
Min Scale: 0
Max Scale: 0
Copyright Text:
Service Data Type: esriImageServiceDataTypeGeneric
Min Values: 6.508333333333333
Max Values: 13.65
Mean Values: 10.155469329491131
Standard Deviation Values: 1.893891681333361
Object ID Field:
Fields:
None
Default Mosaic Method: Center
Allowed Mosaic Methods:
SortField:
SortValue: null
Mosaic Operator: First
Default Compression Quality: 75
Default Resampling Method: Bilinear
Max Record Count: null
Max Image Height: 4100
Max Image Width: 15000
Max Download Image Count: null
Max Mosaic Image Count: null
Allow Raster Function: true
Allow Copy: true
Allow Analysis: true
Allow Compute TiePoints: false
Supports Statistics: false
Supports Advanced Queries: false
Use StandardizedQueries: true
Raster Type Infos:
Name: Raster Dataset
Description: Supports all ArcGIS Raster Datasets
Help:
Has Raster Attribute Table: false
Edit Fields Info: null
Ownership Based AccessControl For Rasters: null
Child Resources:
Info
Histograms
Statistics
Key Properties
Legend
Raster Function Infos
Supported Operations:
Export Image
Identify
Measure
Compute Histograms
Compute Statistics Histograms
Get Samples
Compute Class Statistics
Query Boundary
Compute Pixel Location
Compute Angles
Validate
Project