View In:
ArcGIS JavaScript
ArcGIS Online Map Viewer
ArcGIS Earth
Service Description: AirQuality_Roadway_PM25_master
Name: AirQuality_Roadway_PM25_master
Description:
Single Fused Map Cache: false
Extent:
XMin: 6242869.939312559
YMin: 1352619.8090028116
XMax: 6822329.515318731
YMax: 2084064.3044603723
Spatial Reference: 102642
(2226)
LatestVCSWkid(0)
Initial Extent:
XMin: 6242869.939312559
YMin: 1352619.8090028116
XMax: 6822329.515318731
YMax: 2084064.3044603723
Spatial Reference: 102642
(2226)
LatestVCSWkid(0)
Full Extent:
XMin: 6242869.939312559
YMin: 1352619.8090028116
XMax: 6822329.515318731
YMax: 2084064.3044603723
Spatial Reference: 102642
(2226)
LatestVCSWkid(0)
Pixel Size X: 171.94646172289978
Pixel Size Y: 169.86634822516507
Band Count: 1
Pixel Type: F32
RasterFunction Infos: {"rasterFunctionInfos": [{
"name": "None",
"description": "",
"help": ""
}]}
Mensuration Capabilities: Basic
Inspection Capabilities:
Has Histograms: true
Has Colormap: false
Has Multi Dimensions : false
Rendering Rule:
Min Scale: 0
Max Scale: 0
Copyright Text:
Service Data Type: esriImageServiceDataTypeGeneric
Min Values: 8.356749248150663E-8
Max Values: 7.285431861877441
Mean Values: 0.06560928931501898
Standard Deviation Values: 0.19287420258854174
Object ID Field:
Fields:
None
Default Mosaic Method: Center
Allowed Mosaic Methods:
SortField:
SortValue: null
Mosaic Operator: First
Default Compression Quality: 75
Default Resampling Method: Bilinear
Max Record Count: null
Max Image Height: 4100
Max Image Width: 15000
Max Download Image Count: null
Max Mosaic Image Count: null
Allow Raster Function: true
Allow Copy: true
Allow Analysis: true
Allow Compute TiePoints: false
Supports Statistics: false
Supports Advanced Queries: false
Use StandardizedQueries: true
Raster Type Infos:
Name: Raster Dataset
Description: Supports all ArcGIS Raster Datasets
Help:
Has Raster Attribute Table: false
Edit Fields Info: null
Ownership Based AccessControl For Rasters: null
Child Resources:
Info
Histograms
Statistics
Key Properties
Legend
Raster Function Infos
Supported Operations:
Export Image
Identify
Measure
Compute Histograms
Compute Statistics Histograms
Get Samples
Compute Class Statistics
Query Boundary
Compute Pixel Location
Compute Angles
Validate
Project