View In:
ArcGIS JavaScript
ArcGIS Online Map Viewer
ArcGIS Earth
Service Description: AirQuality_ChronicHazard_master
Name: AirQuality_ChronicHazard_master
Description:
Single Fused Map Cache: false
Extent:
XMin: 494826.0012248008
YMin: 4083296.040812605
XMax: 661921.9865571869
YMax: 4302938.170888907
Spatial Reference: 26910
(26910)
LatestVCSWkid(0)
Initial Extent:
XMin: 494826.0012248008
YMin: 4083296.040812605
XMax: 661921.9865571869
YMax: 4302938.170888907
Spatial Reference: 26910
(26910)
LatestVCSWkid(0)
Full Extent:
XMin: 494826.0012248008
YMin: 4083296.040812605
XMax: 661921.9865571869
YMax: 4302938.170888907
Spatial Reference: 26910
(26910)
LatestVCSWkid(0)
Pixel Size X: 51.42997394040816
Pixel Size Y: 50.807802469651214
Band Count: 1
Pixel Type: F32
RasterFunction Infos: {"rasterFunctionInfos": [{
"name": "None",
"description": "",
"help": ""
}]}
Mensuration Capabilities: Basic
Inspection Capabilities:
Has Histograms: true
Has Colormap: false
Has Multi Dimensions : false
Rendering Rule:
Min Scale: 0
Max Scale: 0
Copyright Text:
Service Data Type: esriImageServiceDataTypeGeneric
Min Values: 9.760332986274989E-9
Max Values: 1.0321660041809082
Mean Values: 0.008830222605714259
Standard Deviation Values: 0.026795242790595
Object ID Field:
Fields:
None
Default Mosaic Method: Center
Allowed Mosaic Methods:
SortField:
SortValue: null
Mosaic Operator: First
Default Compression Quality: 75
Default Resampling Method: Bilinear
Max Record Count: null
Max Image Height: 4100
Max Image Width: 15000
Max Download Image Count: null
Max Mosaic Image Count: null
Allow Raster Function: true
Allow Copy: true
Allow Analysis: true
Allow Compute TiePoints: false
Supports Statistics: false
Supports Advanced Queries: false
Use StandardizedQueries: true
Raster Type Infos:
Name: Raster Dataset
Description: Supports all ArcGIS Raster Datasets
Help:
Has Raster Attribute Table: false
Edit Fields Info: null
Ownership Based AccessControl For Rasters: null
Child Resources:
Info
Histograms
Statistics
Key Properties
Legend
Raster Function Infos
Supported Operations:
Export Image
Identify
Measure
Compute Histograms
Compute Statistics Histograms
Get Samples
Compute Class Statistics
Query Boundary
Compute Pixel Location
Compute Angles
Validate
Project