Monthly 30-year \"normal\" dataset covering the conterminous U.S., averaged over the climatological period 1991-2020. Contains spatially gridded average annual total precipitation at 4km grid cell resolution. Distribution of the point measurements to the spatial grid was accomplished using the PRISM model, developed and applied by Dr. Christopher Daly of the PRISM Climate Group at Oregon State University. This dataset is available free-of-charge on the PRISM website.<\/SPAN><\/P><\/DIV><\/DIV><\/DIV>",
"serviceItemId": "e995b4aabff3432baa31ae09a60fa0fa",
"name": "PRISM_Mean_Annual_Precipitation_30yr_Normal_master",
"description": "Monthly 30-year \"normal\" dataset covering the conterminous U.S., averaged over the climatological period 1991-2020. Contains spatially gridded average annual total precipitation at 4km grid cell resolution. Distribution of the point measurements to the spatial grid was accomplished using the PRISM model, developed and applied by Dr. Christopher Daly of the PRISM Climate Group at Oregon State University. This dataset is available free-of-charge on the PRISM website.<\/SPAN><\/P><\/DIV><\/DIV><\/DIV>",
"extent": {
"xmin": 6339715.749568311,
"ymin": 1779875.302178957,
"xmax": 6582937.504240485,
"ymax": 2104170.9750751886,
"spatialReference": {
"wkid": 102642,
"latestWkid": 2226
}
},
"initialExtent": {
"xmin": 6339715.749568311,
"ymin": 1779875.302178957,
"xmax": 6582937.504240485,
"ymax": 2104170.9750751886,
"spatialReference": {
"wkid": 102642,
"latestWkid": 2226
}
},
"fullExtent": {
"xmin": 6339715.749568311,
"ymin": 1779875.302178957,
"xmax": 6582937.504240485,
"ymax": 2104170.9750751886,
"spatialReference": {
"wkid": 102642,
"latestWkid": 2226
}
},
"sortableFields": "",
"bandCount": 1,
"pixelType": "F32",
"minValues": [
20.791728973388672
],
"maxValues": [
49.323394775390625
],
"meanValues": [
32.161692560935506
],
"stdvValues": [
6.812811515152975
],
"serviceProperties": "Center<\/MosaicMethod>First<\/MosaicOperator>true<\/SortAscending><\/LockImageID><\/TileOrderField>0<\/TileOrderBase>0.000000<\/AvgImageSpacingX>0.000000<\/AvgImageSpacingY>0.0<\/ViewPointX>0.0<\/ViewPointY>0.0<\/ViewPointDefShiftX>0.0<\/ViewPointDefShiftY>None<\/CompressionMethod>75<\/CompressionQuality>0.010000<\/CompressionTolerance>Bilinear<\/SamplingMethod><\/ImageServiceProperties><\/ImageServer>",
"allowedFields": "",
"hasMultidimensions": false,
"pixelSizeX": 13512.319704009686,
"pixelSizeY": 13512.319704009647,
"meanPixelSize": 4118.563282908713,
"datasetFormat": "FGDBR",
"uncompressedSize": 1728,
"blockWidth": 128,
"blockHeight": 128,
"compressionType": "LZ77",
"bandNames": [
"Band_1"
],
"allowCopy": true,
"allowAnalysis": true,
"itemAccess": false,
"inspectionCapabilities": "",
"minPixelSize": 0,
"maxPixelSize": 0,
"copyrightText": "PRISM Climate Group at Oregon State University, 2025",
"serviceDataType": "esriImageServiceDataTypeGeneric",
"serviceSourceType": "esriImageServiceSourceTypeDataset",
"objectIdField": "",
"fields": [],
"capabilities": "Image,Metadata,Mensuration",
"defaultMosaicMethod": "Center",
"allowedMosaicMethods": "",
"sortField": "",
"sortValue": null,
"sortAscending": true,
"mosaicOperator": "First",
"defaultCompressionQuality": 75,
"defaultResamplingMethod": "Bilinear",
"maxImageHeight": 4100,
"maxImageWidth": 15000,
"allowRasterFunction": true,
"rasterFunctionInfos": [
{
"name": "None",
"description": "",
"help": ""
}
],
"rasterTypeInfos": [
{
"name": "Raster Dataset",
"description": "Supports all ArcGIS Raster Datasets",
"help": ""
}
],
"mensurationCapabilities": "Basic",
"hasHistograms": true,
"hasColormap": false,
"hasRasterAttributeTable": false,
"minScale": 0,
"maxScale": 0,
"exportTilesAllowed": false,
"supportsStatistics": false,
"supportsAdvancedQueries": false,
"editFieldsInfo": null,
"ownershipBasedAccessControlForRasters": null,
"allowComputeTiePoints": false,
"useStandardizedQueries": true,
"advancedQueryCapabilities": {
"useStandardizedQueries": true,
"supportsStatistics": false,
"supportsOrderBy": false,
"supportsDistinct": false,
"supportsPagination": false
},
"spatialReference": {
"wkid": 102642,
"latestWkid": 2226
}
}