{ "currentVersion": 11.5, "serviceDescription": "

Mean Annual Evapotranspiration (inches) spatial data raster.<\/SPAN><\/P>
ESA requested spatial evapotranspiration (ET) data from DWR and CIMIS. DWR provided reference evapotranspiration raster layers for every year from 2004-2024. Each raster has 365-366 bands to represent reference evapotranspiration for each day within that year. ESA summed these raster bands by year using a Python script. ESA then averaged the annual ET rasters using the ArcGIS Pro Raster Calculator tool to produce the mean annual evapotranspiration spatial data raster. The Coordinate Reference System of the DWR rasters and mean annual ET raster is NAD 1983 California (Teale) Albers (Meters) and the native cell size is 2000m. ESA reprojected the raster from NAD 1983 California (Teale) Albers (Meters) to NAD 1983 StatePlane California II FIPS 0402 (US Feet) using the Project Raster tool with bilinear interpolation resampling. The Project Raster tool was set to the default cell size conversion from meters to feet. ESA used the Raster Calculator tool in ArcGIS Pro to convert the reprojected mean annual ET raster from millimeters to inches. Finally, ESA clipped the California-wide raster to a boundary of Napa County with a 1-mile buffer using the Extract by Mask tool.<\/SPAN><\/P>
https://data.ca.gov/dataset/cimis-weather-station-spatial-cimis-data-web-api<\/SPAN><\/P><\/DIV><\/DIV><\/DIV>", "serviceItemId": "bbf17845596a44659d84663ccdebd8a8", "name": "Mean_Annual_ET_master", "description": "

Mean Annual Evapotranspiration (inches) spatial data raster.<\/SPAN><\/P>
ESA requested spatial evapotranspiration (ET) data from DWR and CIMIS. DWR provided reference evapotranspiration raster layers for every year from 2004-2024. Each raster has 365-366 bands to represent reference evapotranspiration for each day within that year. ESA summed these raster bands by year using a Python script. ESA then averaged the annual ET rasters using the ArcGIS Pro Raster Calculator tool to produce the mean annual evapotranspiration spatial data raster. The Coordinate Reference System of the DWR rasters and mean annual ET raster is NAD 1983 California (Teale) Albers (Meters) and the native cell size is 2000m. ESA reprojected the raster from NAD 1983 California (Teale) Albers (Meters) to NAD 1983 StatePlane California II FIPS 0402 (US Feet) using the Project Raster tool with bilinear interpolation resampling. The Project Raster tool was set to the default cell size conversion from meters to feet. ESA used the Raster Calculator tool in ArcGIS Pro to convert the reprojected mean annual ET raster from millimeters to inches. Finally, ESA clipped the California-wide raster to a boundary of Napa County with a 1-mile buffer using the Extract by Mask tool.<\/SPAN><\/P>
https://data.ca.gov/dataset/cimis-weather-station-spatial-cimis-data-web-api<\/SPAN><\/P><\/DIV><\/DIV><\/DIV>", "extent": { "xmin": 6371482.132603851, "ymin": 1807008.7198685938, "xmax": 6555208.799270518, "ymax": 2082598.7198685943, "spatialReference": { "wkid": 102642, "latestWkid": 2226 } }, "initialExtent": { "xmin": 6371482.132603851, "ymin": 1807008.7198685938, "xmax": 6555208.799270518, "ymax": 2082598.7198685943, "spatialReference": { "wkid": 102642, "latestWkid": 2226 } }, "fullExtent": { "xmin": 6371482.132603851, "ymin": 1807008.7198685938, "xmax": 6555208.799270518, "ymax": 2082598.7198685943, "spatialReference": { "wkid": 102642, "latestWkid": 2226 } }, "sortableFields": "", "bandCount": 1, "pixelType": "F32", "minValues": [ 43.327369689941406 ], "maxValues": [ 51.049564361572266 ], "meanValues": [ 47.49632537965852 ], "stdvValues": [ 1.6639992168459738 ], "serviceProperties": "Center<\/MosaicMethod>First<\/MosaicOperator>true<\/SortAscending><\/LockImageID><\/TileOrderField>0<\/TileOrderBase>0.000000<\/AvgImageSpacingX>0.000000<\/AvgImageSpacingY>0.0<\/ViewPointX>0.0<\/ViewPointY>0.0<\/ViewPointDefShiftX>0.0<\/ViewPointDefShiftY>None<\/CompressionMethod>75<\/CompressionQuality>0.010000<\/CompressionTolerance>Bilinear<\/SamplingMethod><\/ImageServiceProperties><\/ImageServer>", "allowedFields": "", "hasMultidimensions": false, "pixelSizeX": 6561.666666666678, "pixelSizeY": 6561.666666666678, "meanPixelSize": 2000.0000000000036, "datasetFormat": "FGDBR", "uncompressedSize": 4704, "blockWidth": 128, "blockHeight": 128, "compressionType": "NONE", "bandNames": [ "Band_1" ], "allowCopy": true, "allowAnalysis": true, "itemAccess": false, "inspectionCapabilities": "", "minPixelSize": 0, "maxPixelSize": 0, "copyrightText": "California Department of Water Resources (DWR), 2025, ESA, 2026", "serviceDataType": "esriImageServiceDataTypeGeneric", "serviceSourceType": "esriImageServiceSourceTypeDataset", "objectIdField": "", "fields": [], "capabilities": "Image,Metadata,Mensuration", "defaultMosaicMethod": "Center", "allowedMosaicMethods": "", "sortField": "", "sortValue": null, "sortAscending": true, "mosaicOperator": "First", "defaultCompressionQuality": 75, "defaultResamplingMethod": "Bilinear", "maxImageHeight": 4100, "maxImageWidth": 15000, "allowRasterFunction": true, "rasterFunctionInfos": [ { "name": "None", "description": "", "help": "" } ], "rasterTypeInfos": [ { "name": "Raster Dataset", "description": "Supports all ArcGIS Raster Datasets", "help": "" } ], "mensurationCapabilities": "Basic", "hasHistograms": true, "hasColormap": false, "hasRasterAttributeTable": false, "minScale": 0, "maxScale": 0, "exportTilesAllowed": false, "supportsStatistics": false, "supportsAdvancedQueries": false, "editFieldsInfo": null, "ownershipBasedAccessControlForRasters": null, "allowComputeTiePoints": false, "useStandardizedQueries": true, "advancedQueryCapabilities": { "useStandardizedQueries": true, "supportsStatistics": false, "supportsOrderBy": false, "supportsDistinct": false, "supportsPagination": false }, "spatialReference": { "wkid": 102642, "latestWkid": 2226 } }