<?xml version="1.0" encoding="UTF-8" standalone="no"?>
<metadata xml:lang="en">
<Esri>
<CreaDate>20250930</CreaDate>
<CreaTime>15002200</CreaTime>
<ArcGISFormat>1.0</ArcGISFormat>
<SyncOnce>FALSE</SyncOnce>
<DataProperties>
<lineage>
<Process Date="20250930" Name="Define Projection" Time="150022" ToolSource="c:\program files\arcgis\pro\Resources\ArcToolbox\toolboxes\Data Management Tools.tbx\DefineProjection" export="">DefineProjection U:\GIS\GIS\Projects\2024xxx\D202401108_Napa_BDR\03_Project\Hydrology\climate_change\R99p_mm4mean_gwl2p5_d03_clip.tif PROJCS["undefined",GEOGCS["undefined",DATUM["undefined",SPHEROID["undefined",6370000.0,0.0]],PRIMEM["Greenwich",0.0],UNIT["degree",0.0174532925199433]],PROJECTION["Lambert_Conformal_Conic_2SP"],PARAMETER["false_easting",0.0],PARAMETER["false_northing",0.0],PARAMETER["central_meridian",-70.0],PARAMETER["standard_parallel_1",30.0],PARAMETER["standard_parallel_2",60.0],PARAMETER["latitude_of_origin",38.0],UNIT["metre",1.0]]</Process>
<Process Date="20250930" Name="Project Raster" Time="152345" ToolSource="c:\program files\arcgis\pro\Resources\ArcToolbox\toolboxes\Data Management Tools.tbx\ProjectRaster" export="">ProjectRaster R99p_mm4mean_gwl2p5_d03_clip.tif U:\GIS\GIS\Projects\2024xxx\D202401108_Napa_BDR\03_Project\Hydrology\climate_change\R99p_mm4mean_gwl2p5_d03_clip_tif_CASPII.tif PROJCS["NAD_1983_StatePlane_California_II_FIPS_0402_Feet",GEOGCS["GCS_North_American_1983",DATUM["D_North_American_1983",SPHEROID["GRS_1980",6378137.0,298.257222101]],PRIMEM["Greenwich",0.0],UNIT["Degree",0.0174532925199433]],PROJECTION["Lambert_Conformal_Conic"],PARAMETER["False_Easting",6561666.666666666],PARAMETER["False_Northing",1640416.666666667],PARAMETER["Central_Meridian",-122.0],PARAMETER["Standard_Parallel_1",38.33333333333334],PARAMETER["Standard_Parallel_2",39.83333333333334],PARAMETER["Latitude_Of_Origin",37.66666666666666],UNIT["Foot_US",0.3048006096012192]] BILINEAR "9842.5 9842.5" # # PROJCS["undefined",GEOGCS["GCS_undefined",DATUM["D_undefined",SPHEROID["undefined",6370000.0,0.0]],PRIMEM["Greenwich",0.0],UNIT["Degree",0.0174532925199433]],PROJECTION["Lambert_Conformal_Conic"],PARAMETER["False_Easting",0.0],PARAMETER["False_Northing",0.0],PARAMETER["Central_Meridian",-70.0],PARAMETER["Standard_Parallel_1",30.0],PARAMETER["Standard_Parallel_2",60.0],PARAMETER["Latitude_Of_Origin",38.0],UNIT["Meter",1.0]] NO_VERTICAL</Process>
<Process Date="20251006" Time="175409" ToolSource="c:\program files\arcgis\pro\Resources\ArcToolbox\toolboxes\Data Management Tools.tbx\CopyRaster">CopyRaster R99p_mm4mean_gwl2p5_d03_clip_tif_CASPII.tif U:\GIS\GIS\Projects\2024xxx\D202401108_Napa_BDR\03_Project\Napa_BDR_ProjectData_DoNotEdit.gdb\R99p_mm4mean_gwl2p5_d03_clip_tif_CASPII_tif # # # NONE NONE # NONE NONE GRID NONE CURRENT_SLICE NO_TRANSPOSE</Process>
<Process Date="20251029" Time="091724" ToolSource="c:\program files\arcgis\pro\Resources\ArcToolbox\toolboxes\Data Management Tools.tbx\CopyMultiple">CopyMultiple "U:\GIS\GIS\Projects\2024xxx\D202401108_Napa_BDR\03_Project\Napa_BDR_ProjectData_DoNotEdit.gdb\R99p_mm4mean_gwl2p5_d03_clip_tif_CASPII_tif RasterDataset" U:\GIS\GIS\Projects\2024xxx\D202401108_Napa_BDR\02_DataOut\20251028_ToNapaCounty\Napa_BDR_DataDelivery_20251028.gdb R99p_mm4mean_gwl2p5_d03_clip_tif_CASPII_tif "R99p_mm4mean_gwl2p5_d03_clip_tif_CASPII_tif RasterDataset R99p_mm4mean_gwl2p5_d03_clip_tif_CASPII_tif #"</Process>
<Process Date="20251103" Time="114245" ToolSource="c:\program files\arcgis\pro\Resources\ArcToolbox\Toolboxes\Data Management Tools.tbx\Rename">Rename "\\data6\Planning_dept_share\WIPDOCS\GIS\- Projects\. project - BDR update\_ 2025 update\_ incoming from ESA\20251028_ToNapaCounty\Napa_BDR_DataDelivery_20251028.gdb\R99p_mm4mean_gwl2p5_d03_clip_tif_CASPII_tif" "\\data6\Planning_dept_share\WIPDOCS\GIS\- Projects\. project - BDR update\_ 2025 update\_ incoming from ESA\20251028_ToNapaCounty\Napa_BDR_DataDelivery_20251028.gdb\x__R99p_mm4mean_gwl2p5_d03_clip_tif_CASPII_tif" RasterDataset</Process>
<Process Date="20260211" Time="112811" ToolSource="c:\program files\arcgis\pro\Resources\ArcToolbox\Toolboxes\Data Management Tools.tbx\Rename">Rename "I:\WIPDOCS\GIS\- Projects\. project - BDR update\_ 2025 update\_ incoming from ESA\20251028_ToNapaCounty\Napa_BDR_DataDelivery_20251028.gdb\x__R99p_mm4mean_gwl2p5_d03_clip_tif_CASPII_tif" "I:\WIPDOCS\GIS\- Projects\. project - BDR update\_ 2025 update\_ incoming from ESA\20251028_ToNapaCounty\Napa_BDR_DataDelivery_20251028.gdb\Extreme_Precipitation_Events_master" RasterDataset</Process>
</lineage>
<itemProps>
<itemName Sync="TRUE">R99p_mm4mean_gwl2p5_d03_clip_tif_CASPII_tif</itemName>
<itemLocation>
<linkage Sync="TRUE">file://\\AZR-FILE01\GIS_SHARE\GIS\GIS\Projects\2024xxx\D202401108_Napa_BDR\03_Project\Napa_BDR_ProjectData_DoNotEdit.gdb</linkage>
<protocol Sync="TRUE">Local Area Network</protocol>
</itemLocation>
<imsContentType Sync="TRUE" export="False">002</imsContentType>
<nativeExtBox>
<westBL Sync="TRUE">6304225.193886</westBL>
<eastBL Sync="TRUE">6629027.693886</eastBL>
<southBL Sync="TRUE">1766598.611352</southBL>
<northBL Sync="TRUE">2101243.611352</northBL>
<exTypeCode Sync="TRUE">1</exTypeCode>
</nativeExtBox>
</itemProps>
<coordRef>
<type Sync="TRUE">Projected</type>
<geogcsn Sync="TRUE">GCS_North_American_1983</geogcsn>
<csUnits Sync="TRUE">Linear Unit: Foot_US (0.304801)</csUnits>
<projcsn Sync="TRUE">NAD_1983_StatePlane_California_II_FIPS_0402_Feet</projcsn>
<peXml Sync="TRUE">&lt;ProjectedCoordinateSystem xsi:type='typens:ProjectedCoordinateSystem' xmlns:xsi='http://www.w3.org/2001/XMLSchema-instance' xmlns:xs='http://www.w3.org/2001/XMLSchema' xmlns:typens='http://www.esri.com/schemas/ArcGIS/3.5.0'&gt;&lt;WKT&gt;PROJCS[&amp;quot;NAD_1983_StatePlane_California_II_FIPS_0402_Feet&amp;quot;,GEOGCS[&amp;quot;GCS_North_American_1983&amp;quot;,DATUM[&amp;quot;D_North_American_1983&amp;quot;,SPHEROID[&amp;quot;GRS_1980&amp;quot;,6378137.0,298.257222101]],PRIMEM[&amp;quot;Greenwich&amp;quot;,0.0],UNIT[&amp;quot;Degree&amp;quot;,0.0174532925199433]],PROJECTION[&amp;quot;Lambert_Conformal_Conic&amp;quot;],PARAMETER[&amp;quot;False_Easting&amp;quot;,6561666.666666666],PARAMETER[&amp;quot;False_Northing&amp;quot;,1640416.666666667],PARAMETER[&amp;quot;Central_Meridian&amp;quot;,-122.0],PARAMETER[&amp;quot;Standard_Parallel_1&amp;quot;,38.33333333333334],PARAMETER[&amp;quot;Standard_Parallel_2&amp;quot;,39.83333333333334],PARAMETER[&amp;quot;Latitude_Of_Origin&amp;quot;,37.66666666666666],UNIT[&amp;quot;Foot_US&amp;quot;,0.3048006096012192],AUTHORITY[&amp;quot;EPSG&amp;quot;,2226]]&lt;/WKT&gt;&lt;XOrigin&gt;-115211800&lt;/XOrigin&gt;&lt;YOrigin&gt;-93821500&lt;/YOrigin&gt;&lt;XYScale&gt;36983428.057351544&lt;/XYScale&gt;&lt;ZOrigin&gt;-100000&lt;/ZOrigin&gt;&lt;ZScale&gt;10000&lt;/ZScale&gt;&lt;MOrigin&gt;-100000&lt;/MOrigin&gt;&lt;MScale&gt;10000&lt;/MScale&gt;&lt;XYTolerance&gt;0.0032808333333333331&lt;/XYTolerance&gt;&lt;ZTolerance&gt;0.001&lt;/ZTolerance&gt;&lt;MTolerance&gt;0.001&lt;/MTolerance&gt;&lt;HighPrecision&gt;true&lt;/HighPrecision&gt;&lt;WKID&gt;102642&lt;/WKID&gt;&lt;LatestWKID&gt;2226&lt;/LatestWKID&gt;&lt;/ProjectedCoordinateSystem&gt;</peXml>
</coordRef>
<RasterProperties>
<General>
<PixelDepth Sync="TRUE">64</PixelDepth>
<HasColormap Sync="TRUE">FALSE</HasColormap>
<CompressionType Sync="TRUE">LZW</CompressionType>
<NumBands Sync="TRUE">1</NumBands>
<Format Sync="TRUE">TIFF</Format>
<HasPyramids Sync="TRUE">FALSE</HasPyramids>
<SourceType Sync="TRUE">continuous</SourceType>
<PixelType Sync="TRUE">double precision</PixelType>
<NoDataValue Sync="TRUE">nan</NoDataValue>
</General>
</RasterProperties>
</DataProperties>
<SyncDate>20251006</SyncDate>
<SyncTime>17540800</SyncTime>
<ModDate>20251006</ModDate>
<ModTime>17540800</ModTime>
<scaleRange>
<minScale>150000000</minScale>
<maxScale>5000</maxScale>
</scaleRange>
<ArcGISProfile>ISO19115_3</ArcGISProfile>
</Esri>
<dataIdInfo>
<envirDesc Sync="TRUE">Microsoft Windows Server 2016 Technical Preview Version 10.0 (Build 19045) ; Esri ArcGIS 13.5.2.57366</envirDesc>
<dataLang>
<languageCode Sync="TRUE" value="eng"/>
<countryCode Sync="TRUE" value="USA"/>
</dataLang>
<idCitation>
<resTitle Sync="TRUE">Extreme_Precipitation_Events_master</resTitle>
<presForm>
<PresFormCd Sync="TRUE" value="011"/>
</presForm>
</idCitation>
<spatRpType>
<SpatRepTypCd Sync="TRUE" value="002"/>
</spatRpType>
<dataExt>
<geoEle>
<GeoBndBox esriExtentType="search">
<exTypeCode Sync="TRUE">1</exTypeCode>
<westBL Sync="TRUE">-122.905003</westBL>
<eastBL Sync="TRUE">-121.763193</eastBL>
<northBL Sync="TRUE">38.932015</northBL>
<southBL Sync="TRUE">38.009650</southBL>
</GeoBndBox>
</geoEle>
</dataExt>
<idPurp>Extreme Precipitation: Change in 99th percentile precipitation, excluding snowfall, in relation to the historical baseline of 0.8°C GWL (millimeters), 2.5°C.</idPurp>
<idAbs>&lt;div style='text-align:Left;'&gt;&lt;div&gt;&lt;div&gt;&lt;p&gt;&lt;span&gt;Extreme Precipitation: Change in 99th percentile precipitation, excluding snowfall, in relation to the historical baseline of 0.8°C GWL (millimeters), 2.5°C.&lt;/span&gt;&lt;/p&gt;&lt;p&gt;&lt;span&gt;This layer was derived from the Cal-Adapt LOCA2 dataset available at &lt;/span&gt;&lt;span&gt;&lt;span&gt;(&lt;/span&gt;&lt;/span&gt;&lt;a href='https://analytics.cal-adapt.org/data/access/' style='text-decoration:underline;'&gt;&lt;span style='text-decoration:underline;'&gt;&lt;span&gt;https://analytics.cal-adapt.org/data/access/&lt;/span&gt;&lt;/span&gt;&lt;/a&gt;&lt;span&gt;&lt;span&gt;) &lt;/span&gt;&lt;/span&gt;&lt;/p&gt;&lt;p&gt;&lt;span /&gt;&lt;/p&gt;&lt;p&gt;&lt;span /&gt;&lt;/p&gt;&lt;table&gt;&lt;tbody&gt;&lt;tr&gt;&lt;td&gt;&lt;p style='text-align:Center;font-weight:bold;margin:0 0 0 0;'&gt;&lt;span&gt;&lt;span&gt;GWL (°C)&lt;/span&gt;&lt;/span&gt;&lt;/p&gt;&lt;/td&gt;&lt;td&gt;&lt;p style='text-align:Center;font-weight:bold;margin:0 0 0 0;'&gt;&lt;span&gt;&lt;span&gt;MIN&lt;/span&gt;&lt;/span&gt;&lt;/p&gt;&lt;/td&gt;&lt;td&gt;&lt;p style='text-align:Center;font-weight:bold;margin:0 0 0 0;'&gt;&lt;span&gt;&lt;span&gt;MAX&lt;/span&gt;&lt;/span&gt;&lt;/p&gt;&lt;/td&gt;&lt;td&gt;&lt;p style='text-align:Center;font-weight:bold;margin:0 0 0 0;'&gt;&lt;span&gt;&lt;span&gt;RANGE&lt;/span&gt;&lt;/span&gt;&lt;/p&gt;&lt;/td&gt;&lt;td&gt;&lt;p style='text-align:Center;font-weight:bold;margin:0 0 0 0;'&gt;&lt;span&gt;&lt;span&gt;MEAN&lt;/span&gt;&lt;/span&gt;&lt;/p&gt;&lt;/td&gt;&lt;td&gt;&lt;p style='text-align:Center;font-weight:bold;margin:0 0 0 0;'&gt;&lt;span&gt;&lt;span&gt;STD&lt;/span&gt;&lt;/span&gt;&lt;/p&gt;&lt;/td&gt;&lt;td&gt;&lt;p style='text-align:Center;font-weight:bold;margin:0 0 0 0;'&gt;&lt;span&gt;&lt;span&gt;MEDIAN&lt;/span&gt;&lt;/span&gt;&lt;/p&gt;&lt;/td&gt;&lt;td&gt;&lt;p style='text-align:Center;font-weight:bold;margin:0 0 0 0;'&gt;&lt;span&gt;&lt;span&gt;PCT90&lt;/span&gt;&lt;/span&gt;&lt;/p&gt;&lt;/td&gt;&lt;/tr&gt;&lt;tr&gt;&lt;td&gt;&lt;p style='text-align:Center;margin:0 0 0 0;'&gt;&lt;span&gt;2.5&lt;/span&gt;&lt;/p&gt;&lt;/td&gt;&lt;td&gt;&lt;p style='text-align:Center;margin:0 0 0 0;'&gt;&lt;span&gt;30.6&lt;/span&gt;&lt;/p&gt;&lt;/td&gt;&lt;td&gt;&lt;p style='text-align:Center;margin:0 0 0 0;'&gt;&lt;span&gt;78.2&lt;/span&gt;&lt;/p&gt;&lt;/td&gt;&lt;td&gt;&lt;p style='text-align:Center;margin:0 0 0 0;'&gt;&lt;span&gt;47.6&lt;/span&gt;&lt;/p&gt;&lt;/td&gt;&lt;td&gt;&lt;p style='text-align:Center;margin:0 0 0 0;'&gt;&lt;span&gt;45.5&lt;/span&gt;&lt;/p&gt;&lt;/td&gt;&lt;td&gt;&lt;p style='text-align:Center;margin:0 0 0 0;'&gt;&lt;span&gt;7.9&lt;/span&gt;&lt;/p&gt;&lt;/td&gt;&lt;td&gt;&lt;p style='text-align:Center;margin:0 0 0 0;'&gt;&lt;span&gt;&lt;span&gt;45.2&lt;/span&gt;&lt;/span&gt;&lt;/p&gt;&lt;/td&gt;&lt;td&gt;&lt;p style='text-align:Center;margin:0 0 0 0;'&gt;&lt;span&gt;&lt;span&gt;54.8&lt;/span&gt;&lt;/span&gt;&lt;/p&gt;&lt;/td&gt;&lt;/tr&gt;&lt;/tbody&gt;&lt;/table&gt;&lt;p&gt;&lt;p&gt;&lt;p&gt;&lt;span /&gt;&lt;/p&gt;&lt;/div&gt;&lt;/div&gt;&lt;/div&gt;&lt;/p&gt;&lt;/p&gt;</idAbs>
<idCredit>Cal-Adapt, 2025</idCredit>
<searchKeys>
<keyword>Napa County</keyword>
<keyword>climate</keyword>
<keyword>precipitation</keyword>
<keyword>Cal-Adapt</keyword>
<keyword>BDR</keyword>
</searchKeys>
<tpCat>
<TopicCatCd value="004"/>
</tpCat>
<resConst>
<Consts>
<useLimit/>
</Consts>
</resConst>
</dataIdInfo>
<mdLang>
<languageCode Sync="TRUE" value="eng"/>
<countryCode Sync="TRUE" value="USA"/>
</mdLang>
<mdChar>
<CharSetCd Sync="TRUE" value="004"/>
</mdChar>
<distInfo>
<distFormat>
<formatName Sync="TRUE">File Geodatabase Raster Dataset</formatName>
</distFormat>
</distInfo>
<mdHrLv>
<ScopeCd Sync="TRUE" value="005"/>
</mdHrLv>
<mdHrLvName Sync="TRUE">dataset</mdHrLvName>
<refSysInfo>
<RefSystem>
<refSysID>
<identCode Sync="TRUE" code="2226"/>
<idCodeSpace Sync="TRUE">EPSG</idCodeSpace>
<idVersion Sync="TRUE">5.3(9.0.0)</idVersion>
</refSysID>
</RefSystem>
</refSysInfo>
<spatRepInfo>
<Georect>
<cellGeo>
<CellGeoCd Sync="TRUE" value="002"/>
</cellGeo>
<numDims Sync="TRUE">2</numDims>
<tranParaAv Sync="TRUE">1</tranParaAv>
<chkPtAv Sync="TRUE">0</chkPtAv>
<cornerPts>
<pos Sync="TRUE">6304225.193886 1766598.611352</pos>
</cornerPts>
<cornerPts>
<pos Sync="TRUE">6304225.193886 2101243.611352</pos>
</cornerPts>
<cornerPts>
<pos Sync="TRUE">6629027.693886 2101243.611352</pos>
</cornerPts>
<cornerPts>
<pos Sync="TRUE">6629027.693886 1766598.611352</pos>
</cornerPts>
<centerPt>
<pos Sync="TRUE">6466626.443886 1933921.111352</pos>
</centerPt>
<axisDimension type="002">
<dimSize Sync="TRUE">33</dimSize>
<dimResol>
<value Sync="TRUE" uom="ftUS">9842.500000</value>
</dimResol>
</axisDimension>
<axisDimension type="001">
<dimSize Sync="TRUE">34</dimSize>
<dimResol>
<value Sync="TRUE" uom="ftUS">9842.500000</value>
</dimResol>
</axisDimension>
<ptInPixel>
<PixOrientCd Sync="TRUE" value="001"/>
</ptInPixel>
</Georect>
</spatRepInfo>
<contInfo>
<ImgDesc>
<contentTyp>
<ContentTypCd Sync="TRUE" value="001"/>
</contentTyp>
<covDim>
<Band>
<dimDescrp Sync="TRUE">Band_1</dimDescrp>
<maxVal Sync="TRUE">79.825769</maxVal>
<minVal Sync="TRUE">30.036054</minVal>
<bitsPerVal Sync="TRUE">64</bitsPerVal>
<valUnit>
<UOM gmlID="" type="length"/>
</valUnit>
<seqID>
<aName>Millimeters</aName>
</seqID>
</Band>
</covDim>
<attDesc>Change in 99th percentile precipitation, excluding snowfall, in relation to the historical baseline of 0.8°C GWL (millimeters)</attDesc>
<trianInd>False</trianInd>
<radCalDatAv>False</radCalDatAv>
<camCalInAv>False</camCalInAv>
<filmDistInAv>False</filmDistInAv>
<lensDistInAv>False</lensDistInAv>
</ImgDesc>
</contInfo>
<mdDateSt Sync="TRUE">20251006</mdDateSt>
<mdContact>
<rpIndName>Phong Ly</rpIndName>
<rpOrgName>Environmental Science Associates (ESA)</rpOrgName>
<rpPosName>Engineer II</rpPosName>
<role>
<RoleCd value="011"/>
</role>
<rpCntInfo>
<cntAddress addressType="">
<eMailAdd>ply@esassoc.com</eMailAdd>
</cntAddress>
</rpCntInfo>
</mdContact>
<spdoinfo>
<rastinfo>
<rasttype Sync="TRUE">Pixel</rasttype>
<rowcount Sync="TRUE">34</rowcount>
<colcount Sync="TRUE">33</colcount>
<rastxsz Sync="TRUE">9842.500000</rastxsz>
<rastysz Sync="TRUE">9842.500000</rastysz>
<rastbpp Sync="TRUE">64</rastbpp>
<vrtcount Sync="TRUE">1</vrtcount>
<rastorig Sync="TRUE">Upper Left</rastorig>
<rastcmap Sync="TRUE">FALSE</rastcmap>
<rastcomp Sync="TRUE">LZ77</rastcomp>
<rastband Sync="TRUE">1</rastband>
<rastdtyp Sync="TRUE">pixel codes</rastdtyp>
<rastifor Sync="TRUE">FGDBR</rastifor>
<rastplyr Sync="TRUE">TRUE</rastplyr>
</rastinfo>
</spdoinfo>
<spref>
<horizsys>
<planar>
<planci>
<plance Sync="TRUE">row and column</plance>
<coordrep>
<absres Sync="TRUE">9842.500000</absres>
<ordres Sync="TRUE">9842.500000</ordres>
</coordrep>
</planci>
</planar>
</horizsys>
</spref>
</metadata>
