{
 "currentVersion": 11.5,
 "serviceDescription": "Average_Annual_ET_clip_inches_master",
 "serviceItemId": "279316e0a98c49afa21ff2b427b745b4",
 "name": "Average_Annual_ET_clip_inches_master",
 "description": "",
 "extent": {
  "xmin": -232000,
  "ymin": 18000,
  "xmax": -180000,
  "ymax": 98000,
  "spatialReference": {
   "wkid": 3310,
   "latestWkid": 3310
  }
 },
 "initialExtent": {
  "xmin": -232000,
  "ymin": 18000,
  "xmax": -180000,
  "ymax": 98000,
  "spatialReference": {
   "wkid": 3310,
   "latestWkid": 3310
  }
 },
 "fullExtent": {
  "xmin": -232000,
  "ymin": 18000,
  "xmax": -180000,
  "ymax": 98000,
  "spatialReference": {
   "wkid": 3310,
   "latestWkid": 3310
  }
 },
 "sortableFields": "",
 "bandCount": 1,
 "pixelType": "F32",
 "minValues": [
  42.5665168762207
 ],
 "maxValues": [
  50.97921371459961
 ],
 "meanValues": [
  47.631887424715345
 ],
 "stdvValues": [
  1.622108527364598
 ],
 "serviceProperties": "Center<\/MosaicMethod>First<\/MosaicOperator>true<\/SortAscending><\/LockImageID><\/TileOrderField>0<\/TileOrderBase>0.000000<\/AvgImageSpacingX>0.000000<\/AvgImageSpacingY>0.0<\/ViewPointX>0.0<\/ViewPointY>0.0<\/ViewPointDefShiftX>0.0<\/ViewPointDefShiftY>None<\/CompressionMethod>75<\/CompressionQuality>0.010000<\/CompressionTolerance>Bilinear<\/SamplingMethod><\/ImageServiceProperties><\/ImageServer>",
 "allowedFields": "",
 "hasMultidimensions": false,
 "pixelSizeX": 2000,
 "pixelSizeY": 2000,
 "meanPixelSize": 2000,
 "datasetFormat": "FGDBR",
 "uncompressedSize": 4160,
 "blockWidth": 128,
 "blockHeight": 128,
 "compressionType": "LZ77",
 "bandNames": [
  "Band_1"
 ],
 "allowCopy": true,
 "allowAnalysis": true,
 "itemAccess": false,
 "inspectionCapabilities": "",
 "minPixelSize": 0,
 "maxPixelSize": 0,
 "copyrightText": "",
 "serviceDataType": "esriImageServiceDataTypeGeneric",
 "serviceSourceType": "esriImageServiceSourceTypeDataset",
 "objectIdField": "",
 "fields": [],
 "capabilities": "Image,Metadata,Mensuration",
 "defaultMosaicMethod": "Center",
 "allowedMosaicMethods": "",
 "sortField": "",
 "sortValue": null,
 "sortAscending": true,
 "mosaicOperator": "First",
 "defaultCompressionQuality": 75,
 "defaultResamplingMethod": "Bilinear",
 "maxImageHeight": 4100,
 "maxImageWidth": 15000,
 "allowRasterFunction": true,
 "rasterFunctionInfos": [
  {
   "name": "None",
   "description": "",
   "help": ""
  }
 ],
 "rasterTypeInfos": [
  {
   "name": "Raster Dataset",
   "description": "Supports all ArcGIS Raster Datasets",
   "help": ""
  }
 ],
 "mensurationCapabilities": "Basic",
 "hasHistograms": true,
 "hasColormap": false,
 "hasRasterAttributeTable": false,
 "minScale": 0,
 "maxScale": 0,
 "exportTilesAllowed": false,
 "supportsStatistics": false,
 "supportsAdvancedQueries": false,
 "editFieldsInfo": null,
 "ownershipBasedAccessControlForRasters": null,
 "allowComputeTiePoints": false,
 "useStandardizedQueries": true,
 "advancedQueryCapabilities": {
  "useStandardizedQueries": true,
  "supportsStatistics": false,
  "supportsOrderBy": false,
  "supportsDistinct": false,
  "supportsPagination": false
 },
 "spatialReference": {
  "wkid": 3310,
  "latestWkid": 3310
 }
}
