<?xml version="1.0" encoding="UTF-8" standalone="no"?>
<metadata xml:lang="en">
<Esri>
<CreaDate>20250815</CreaDate>
<CreaTime>11290300</CreaTime>
<ArcGISFormat>1.0</ArcGISFormat>
<SyncOnce>FALSE</SyncOnce>
<DataProperties>
<lineage>
<Process Date="20250815" Name="" Time="112903" ToolSource="c:\program files\arcgis\pro\Resources\ArcToolbox\toolboxes\Image Analyst Tools.tbx\RasterCalculator" export="">RasterCalculator " "Average_Annual_ET_Clip_mm" *0.03937008" U:\GIS\GIS\Projects\2024xxx\D202401108_Napa_BDR\03_Project\Hydrology\Napa_BDR_SWHydrology.gdb\Average_Annual_ET_clip_inches</Process>
<Process Date="20251007" Time="161732" ToolSource="c:\program files\arcgis\pro\Resources\ArcToolbox\toolboxes\Data Management Tools.tbx\CopyRaster">CopyRaster Average_Annual_ET_clip_inches U:\GIS\GIS\Projects\2024xxx\D202401108_Napa_BDR\03_Project\Napa_BDR_ProjectData_DoNotEdit.gdb\Average_Annual_ET_clip_inches # # # NONE NONE # NONE NONE GRID NONE CURRENT_SLICE NO_TRANSPOSE</Process>
<Process Date="20251029" Time="091628" ToolSource="c:\program files\arcgis\pro\Resources\ArcToolbox\toolboxes\Data Management Tools.tbx\CopyMultiple">CopyMultiple "U:\GIS\GIS\Projects\2024xxx\D202401108_Napa_BDR\03_Project\Napa_BDR_ProjectData_DoNotEdit.gdb\Average_Annual_ET_clip_inches RasterDataset" U:\GIS\GIS\Projects\2024xxx\D202401108_Napa_BDR\02_DataOut\20251028_ToNapaCounty\Napa_BDR_DataDelivery_20251028.gdb Average_Annual_ET_clip_inches "Average_Annual_ET_clip_inches RasterDataset Average_Annual_ET_clip_inches #"</Process>
<Process Date="20251103" Time="114701" ToolSource="c:\program files\arcgis\pro\Resources\ArcToolbox\Toolboxes\Data Management Tools.tbx\Rename">Rename "\\data6\Planning_dept_share\WIPDOCS\GIS\- Projects\. project - BDR update\_ 2025 update\_ incoming from ESA\20251028_ToNapaCounty\Napa_BDR_DataDelivery_20251028.gdb\Average_Annual_ET_clip_inches" "\\data6\Planning_dept_share\WIPDOCS\GIS\- Projects\. project - BDR update\_ 2025 update\_ incoming from ESA\20251028_ToNapaCounty\Napa_BDR_DataDelivery_20251028.gdb\x__Average_Annual_ET_clip_inches" RasterDataset</Process>
<Process Date="20251121" Time="081023" ToolSource="c:\program files\arcgis\pro\Resources\ArcToolbox\Toolboxes\Data Management Tools.tbx\Rename">Rename "I:\WIPDOCS\GIS\- Projects\. project - BDR update\_ 2025 update\_ incoming from ESA\20251028_ToNapaCounty\Napa_BDR_DataDelivery_20251028.gdb\x__Average_Annual_ET_clip_inches" "I:\WIPDOCS\GIS\- Projects\. project - BDR update\_ 2025 update\_ incoming from ESA\20251028_ToNapaCounty\Napa_BDR_DataDelivery_20251028.gdb\Average_Annual_ET_clip_inches_master" RasterDataset</Process>
</lineage>
<itemProps>
<imsContentType export="False"/>
<itemName Sync="TRUE">Average_Annual_ET_clip_inches</itemName>
<nativeExtBox>
<westBL Sync="TRUE">-232000.000000</westBL>
<eastBL Sync="TRUE">-180000.000000</eastBL>
<southBL Sync="TRUE">18000.000000</southBL>
<northBL Sync="TRUE">98000.000000</northBL>
<exTypeCode Sync="TRUE">1</exTypeCode>
</nativeExtBox>
<itemLocation>
<linkage Sync="TRUE">file://\\AZR-FILE01\GIS_SHARE\GIS\GIS\Projects\2024xxx\D202401108_Napa_BDR\03_Project\Napa_BDR_ProjectData_DoNotEdit.gdb</linkage>
<protocol Sync="TRUE">Local Area Network</protocol>
</itemLocation>
</itemProps>
<coordRef>
<type Sync="TRUE">Projected</type>
<geogcsn Sync="TRUE">GCS_North_American_1983</geogcsn>
<csUnits Sync="TRUE">Linear Unit: Meter (1.000000)</csUnits>
<projcsn Sync="TRUE">NAD_1983_California_Teale_Albers</projcsn>
<peXml Sync="TRUE">&lt;ProjectedCoordinateSystem xsi:type='typens:ProjectedCoordinateSystem' xmlns:xsi='http://www.w3.org/2001/XMLSchema-instance' xmlns:xs='http://www.w3.org/2001/XMLSchema' xmlns:typens='http://www.esri.com/schemas/ArcGIS/3.5.0'&gt;&lt;WKT&gt;PROJCS[&amp;quot;NAD_1983_California_Teale_Albers&amp;quot;,GEOGCS[&amp;quot;GCS_North_American_1983&amp;quot;,DATUM[&amp;quot;D_North_American_1983&amp;quot;,SPHEROID[&amp;quot;GRS_1980&amp;quot;,6378137.0,298.257222101]],PRIMEM[&amp;quot;Greenwich&amp;quot;,0.0],UNIT[&amp;quot;Degree&amp;quot;,0.0174532925199433]],PROJECTION[&amp;quot;Albers&amp;quot;],PARAMETER[&amp;quot;False_Easting&amp;quot;,0.0],PARAMETER[&amp;quot;False_Northing&amp;quot;,-4000000.0],PARAMETER[&amp;quot;Central_Meridian&amp;quot;,-120.0],PARAMETER[&amp;quot;Standard_Parallel_1&amp;quot;,34.0],PARAMETER[&amp;quot;Standard_Parallel_2&amp;quot;,40.5],PARAMETER[&amp;quot;Latitude_Of_Origin&amp;quot;,0.0],UNIT[&amp;quot;Meter&amp;quot;,1.0],AUTHORITY[&amp;quot;EPSG&amp;quot;,3310]]&lt;/WKT&gt;&lt;XOrigin&gt;-16909700&lt;/XOrigin&gt;&lt;YOrigin&gt;-8597000&lt;/YOrigin&gt;&lt;XYScale&gt;266332319.7555542&lt;/XYScale&gt;&lt;ZOrigin&gt;-100000&lt;/ZOrigin&gt;&lt;ZScale&gt;10000&lt;/ZScale&gt;&lt;MOrigin&gt;-100000&lt;/MOrigin&gt;&lt;MScale&gt;10000&lt;/MScale&gt;&lt;XYTolerance&gt;0.001&lt;/XYTolerance&gt;&lt;ZTolerance&gt;0.001&lt;/ZTolerance&gt;&lt;MTolerance&gt;0.001&lt;/MTolerance&gt;&lt;HighPrecision&gt;true&lt;/HighPrecision&gt;&lt;WKID&gt;3310&lt;/WKID&gt;&lt;LatestWKID&gt;3310&lt;/LatestWKID&gt;&lt;/ProjectedCoordinateSystem&gt;</peXml>
</coordRef>
</DataProperties>
<scaleRange>
<minScale>150000000</minScale>
<maxScale>5000</maxScale>
</scaleRange>
<ArcGISProfile>ISO19115_3</ArcGISProfile>
<SyncDate>20251007</SyncDate>
<SyncTime>16173100</SyncTime>
<ModDate>20251007</ModDate>
<ModTime>16173100</ModTime>
</Esri>
<dataIdInfo>
<idPurp>Mean Annual Evapotranspiration (inches)</idPurp>
<idAbs>&lt;div style='text-align:Left;'&gt;&lt;div&gt;&lt;div&gt;&lt;p&gt;&lt;span&gt;Mean Annual Evapotranspiration (inches)&lt;/span&gt;&lt;/p&gt;&lt;p&gt;&lt;span&gt;CIMIS data is available to the public free of charge via a web Application Programming Interface (API). The CIMIS Web API delivers data over the REST protocol from an enterprise production platform. The system provides reference evapotranspiration (ETo) and weather data from the CIMIS Weather Station Network and the Spatial CIMIS System. Spatial CIMIS provides daily maps of ETo and solar radiation (Rs) data at 2-km grid by coupling remotely sensed satellite data with point measurements from the CIMIS weather stations. In summary, the data provided through the CIMIS Web API is comprised by a) Weather and ETo data registered at the CIMIS Weather Station Network (more than 150 stations located throughout the state of California and b) Spatial CIMIS System data that provides statewide ETo and solar radiation (Rs) data as well as aeraged ETo by zip-codes. The RESTful HTTP services reach a broader range of clients; including Wi-Fi aware irrigation smart controllers as well as browser and mobile applications, all while expanding the delivery options by providing data in either JSON or XML formats.&lt;/span&gt;&lt;/p&gt;&lt;p&gt;&lt;span&gt;https://data.ca.gov/dataset/cimis-weather-station-spatial-cimis-data-web-api&lt;/span&gt;&lt;/p&gt;&lt;p&gt;&lt;span /&gt;&lt;/p&gt;&lt;/div&gt;&lt;/div&gt;&lt;/div&gt;</idAbs>
<idCredit>California Department of Water Resources (DWR), 2025</idCredit>
<idCitation>
<resTitle>Average_Annual_ET_clip_inches_master</resTitle>
<presForm>
<PresFormCd Sync="TRUE" value="011"/>
</presForm>
</idCitation>
<searchKeys>
<keyword>Napa County</keyword>
<keyword>BDR</keyword>
<keyword>evapotranspiration</keyword>
<keyword>hydrology</keyword>
</searchKeys>
<dataLang>
<languageCode value="eng"/>
<countryCode Sync="TRUE" value="USA"/>
</dataLang>
<dataChar>
<CharSetCd value="004"/>
</dataChar>
<dataExt>
<exDesc>Napa County</exDesc>
<geoEle/>
</dataExt>
<tpCat>
<TopicCatCd value="004"/>
</tpCat>
<tpCat>
<TopicCatCd value="007"/>
</tpCat>
<tpCat>
<TopicCatCd value="012"/>
</tpCat>
<envirDesc Sync="TRUE">Microsoft Windows Server 2016 Technical Preview Version 10.0 (Build 19045) ; Esri ArcGIS 13.5.2.57366</envirDesc>
<spatRpType>
<SpatRepTypCd Sync="TRUE" value="002"/>
</spatRpType>
<dataExt>
<geoEle>
<GeoBndBox esriExtentType="search">
<exTypeCode Sync="TRUE">1</exTypeCode>
<westBL Sync="TRUE">-122.676876</westBL>
<eastBL Sync="TRUE">-122.057080</eastBL>
<northBL Sync="TRUE">38.880238</northBL>
<southBL Sync="TRUE">38.149105</southBL>
</GeoBndBox>
</geoEle>
</dataExt>
<resConst>
<Consts>
<useLimit/>
</Consts>
</resConst>
</dataIdInfo>
<mdHrLv>
<ScopeCd value="005"/>
</mdHrLv>
<mdDateSt Sync="TRUE">20251007</mdDateSt>
<mdLang>
<languageCode value="eng"/>
<countryCode Sync="TRUE" value="USA"/>
</mdLang>
<mdChar>
<CharSetCd value="004"/>
</mdChar>
<mdContact>
<rpIndName>DWR CIMIS Public Contact</rpIndName>
<rpOrgName>California Department of Water Resources</rpOrgName>
<role>
<RoleCd value="007"/>
</role>
<rpCntInfo>
<cntAddress addressType="">
<eMailAdd>DWRCIMISPublicContact@water.ca.gov</eMailAdd>
</cntAddress>
</rpCntInfo>
</mdContact>
<distInfo>
<distFormat>
<formatName Sync="TRUE">File Geodatabase Raster Dataset</formatName>
</distFormat>
</distInfo>
<mdHrLvName Sync="TRUE">dataset</mdHrLvName>
<refSysInfo>
<RefSystem>
<refSysID>
<identCode Sync="TRUE" code="3310"/>
<idCodeSpace Sync="TRUE">EPSG</idCodeSpace>
<idVersion Sync="TRUE">6.8(9.2.0)</idVersion>
</refSysID>
</RefSystem>
</refSysInfo>
<spdoinfo>
<rastinfo>
<rasttype Sync="TRUE">Pixel</rasttype>
<rowcount Sync="TRUE">40</rowcount>
<colcount Sync="TRUE">26</colcount>
<rastxsz Sync="TRUE">2000.000000</rastxsz>
<rastysz Sync="TRUE">2000.000000</rastysz>
<rastbpp Sync="TRUE">32</rastbpp>
<vrtcount Sync="TRUE">1</vrtcount>
<rastorig Sync="TRUE">Upper Left</rastorig>
<rastcmap Sync="TRUE">FALSE</rastcmap>
<rastcomp Sync="TRUE">LZ77</rastcomp>
<rastband Sync="TRUE">1</rastband>
<rastdtyp Sync="TRUE">pixel codes</rastdtyp>
<rastifor Sync="TRUE">FGDBR</rastifor>
<rastplyr Sync="TRUE">TRUE</rastplyr>
</rastinfo>
</spdoinfo>
<spref>
<horizsys>
<planar>
<planci>
<plance Sync="TRUE">row and column</plance>
<coordrep>
<absres Sync="TRUE">2000.000000</absres>
<ordres Sync="TRUE">2000.000000</ordres>
</coordrep>
</planci>
</planar>
</horizsys>
</spref>
</metadata>
