{
 "currentVersion": 11.5,
 "serviceDescription": "AirQuality_CancerRisk_master",
 "serviceItemId": "a6e09158f5e9425f965ad26b842bb490",
 "name": "AirQuality_CancerRisk_master",
 "description": "",
 "extent": {
  "xmin": 494826.0012248008,
  "ymin": 4083296.040812605,
  "xmax": 661921.9865571869,
  "ymax": 4302938.170888907,
  "spatialReference": {
   "wkid": 26910,
   "latestWkid": 26910
  }
 },
 "initialExtent": {
  "xmin": 494826.0012248008,
  "ymin": 4083296.040812605,
  "xmax": 661921.9865571869,
  "ymax": 4302938.170888907,
  "spatialReference": {
   "wkid": 26910,
   "latestWkid": 26910
  }
 },
 "fullExtent": {
  "xmin": 494826.0012248008,
  "ymin": 4083296.040812605,
  "xmax": 661921.9865571869,
  "ymax": 4302938.170888907,
  "spatialReference": {
   "wkid": 26910,
   "latestWkid": 26910
  }
 },
 "sortableFields": "",
 "bandCount": 1,
 "pixelType": "F32",
 "minValues": [
  1.3782497489955858E-6
 ],
 "maxValues": [
  425.39288330078125
 ],
 "meanValues": [
  2.7926005118218273
 ],
 "stdvValues": [
  9.202237889529624
 ],
 "serviceProperties": "Center<\/MosaicMethod>First<\/MosaicOperator>true<\/SortAscending><\/LockImageID><\/TileOrderField>0<\/TileOrderBase>0.000000<\/AvgImageSpacingX>0.000000<\/AvgImageSpacingY>0.0<\/ViewPointX>0.0<\/ViewPointY>0.0<\/ViewPointDefShiftX>0.0<\/ViewPointDefShiftY>None<\/CompressionMethod>75<\/CompressionQuality>0.010000<\/CompressionTolerance>Bilinear<\/SamplingMethod><\/ImageServiceProperties><\/ImageServer>",
 "allowedFields": "",
 "hasMultidimensions": false,
 "pixelSizeX": 51.42997394040816,
 "pixelSizeY": 50.807802469651214,
 "meanPixelSize": 51.11888820502969,
 "datasetFormat": "FGDBR",
 "uncompressedSize": 56181708,
 "blockWidth": 128,
 "blockHeight": 128,
 "compressionType": "NONE",
 "bandNames": [
  "Band_1"
 ],
 "allowCopy": true,
 "allowAnalysis": true,
 "itemAccess": false,
 "inspectionCapabilities": "",
 "minPixelSize": 0,
 "maxPixelSize": 0,
 "copyrightText": "",
 "serviceDataType": "esriImageServiceDataTypeGeneric",
 "serviceSourceType": "esriImageServiceSourceTypeDataset",
 "objectIdField": "",
 "fields": [],
 "capabilities": "Image,Metadata,Mensuration",
 "defaultMosaicMethod": "Center",
 "allowedMosaicMethods": "",
 "sortField": "",
 "sortValue": null,
 "sortAscending": true,
 "mosaicOperator": "First",
 "defaultCompressionQuality": 75,
 "defaultResamplingMethod": "Bilinear",
 "maxImageHeight": 4100,
 "maxImageWidth": 15000,
 "allowRasterFunction": true,
 "rasterFunctionInfos": [
  {
   "name": "None",
   "description": "",
   "help": ""
  }
 ],
 "rasterTypeInfos": [
  {
   "name": "Raster Dataset",
   "description": "Supports all ArcGIS Raster Datasets",
   "help": ""
  }
 ],
 "mensurationCapabilities": "Basic",
 "hasHistograms": true,
 "hasColormap": false,
 "hasRasterAttributeTable": false,
 "minScale": 0,
 "maxScale": 0,
 "exportTilesAllowed": false,
 "supportsStatistics": false,
 "supportsAdvancedQueries": false,
 "editFieldsInfo": null,
 "ownershipBasedAccessControlForRasters": null,
 "allowComputeTiePoints": false,
 "useStandardizedQueries": true,
 "advancedQueryCapabilities": {
  "useStandardizedQueries": true,
  "supportsStatistics": false,
  "supportsOrderBy": false,
  "supportsDistinct": false,
  "supportsPagination": false
 },
 "spatialReference": {
  "wkid": 26910,
  "latestWkid": 26910
 }
}
